BEGIN:VCALENDAR
VERSION:2.0
PRODID:-//Podisti Lograto - ECPv6.15.14//NONSGML v1.0//EN
CALSCALE:GREGORIAN
METHOD:PUBLISH
X-ORIGINAL-URL:https://www.podistilograto.it
X-WR-CALDESC:Eventi per Podisti Lograto
REFRESH-INTERVAL;VALUE=DURATION:PT1H
X-Robots-Tag:noindex
X-PUBLISHED-TTL:PT1H
BEGIN:VTIMEZONE
TZID:Europe/Rome
BEGIN:DAYLIGHT
TZOFFSETFROM:+0100
TZOFFSETTO:+0200
TZNAME:CEST
DTSTART:20230326T010000
END:DAYLIGHT
BEGIN:STANDARD
TZOFFSETFROM:+0200
TZOFFSETTO:+0100
TZNAME:CET
DTSTART:20231029T010000
END:STANDARD
BEGIN:DAYLIGHT
TZOFFSETFROM:+0100
TZOFFSETTO:+0200
TZNAME:CEST
DTSTART:20240331T010000
END:DAYLIGHT
BEGIN:STANDARD
TZOFFSETFROM:+0200
TZOFFSETTO:+0100
TZNAME:CET
DTSTART:20241027T010000
END:STANDARD
BEGIN:DAYLIGHT
TZOFFSETFROM:+0100
TZOFFSETTO:+0200
TZNAME:CEST
DTSTART:20250330T010000
END:DAYLIGHT
BEGIN:STANDARD
TZOFFSETFROM:+0200
TZOFFSETTO:+0100
TZNAME:CET
DTSTART:20251026T010000
END:STANDARD
END:VTIMEZONE
BEGIN:VEVENT
DTSTART;VALUE=DATE:20240928
DTEND;VALUE=DATE:20240930
DTSTAMP:20260424T193344
CREATED:20240528T212618Z
LAST-MODIFIED:20240528T212743Z
UID:559-1727481600-1727654399@www.podistilograto.it
SUMMARY:28^ StraLugano
DESCRIPTION:
URL:https://www.podistilograto.it/event/28-stralugano/
LOCATION:Lugano\, Svizzera
CATEGORIES:Eventi
ATTACH;FMTTYPE=image/jpeg:https://www.podistilograto.it/wp-content/uploads/2024/05/Stralugano.jpg
END:VEVENT
BEGIN:VEVENT
DTSTART;TZID=Europe/Rome:20240612T200000
DTEND;TZID=Europe/Rome:20240612T200000
DTSTAMP:20260424T193344
CREATED:20230304T143133Z
LAST-MODIFIED:20240531T221713Z
UID:128-1718222400-1718222400@www.podistilograto.it
SUMMARY:30^ edizione GIRADÖ TRA CASCINE E BONIFICHE
DESCRIPTION:
URL:https://www.podistilograto.it/event/30-edizione-girado-tra-cascine-e-bonifiche/
LOCATION:Lograto
CATEGORIES:Eventi
ATTACH;FMTTYPE=image/jpeg:https://www.podistilograto.it/wp-content/uploads/2024/05/Locandina_Girado.jpg
END:VEVENT
BEGIN:VEVENT
DTSTART;TZID=Europe/Rome:20240609T093000
DTEND;TZID=Europe/Rome:20240609T093000
DTSTAMP:20260424T193344
CREATED:20240501T205853Z
LAST-MODIFIED:20240528T211821Z
UID:554-1717925400-1717925400@www.podistilograto.it
SUMMARY:Ogni passo una conquista
DESCRIPTION:
URL:https://www.podistilograto.it/event/ogni-passo-una-conquista/
LOCATION:Travagliato
CATEGORIES:Eventi
ATTACH;FMTTYPE=image/jpeg:https://www.podistilograto.it/wp-content/uploads/2024/05/Ogni_passo_una_conquista.jpg
END:VEVENT
BEGIN:VEVENT
DTSTART;TZID=Europe/Rome:20240531T200000
DTEND;TZID=Europe/Rome:20240531T200000
DTSTAMP:20260424T193344
CREATED:20240501T204154Z
LAST-MODIFIED:20240528T204957Z
UID:548-1717185600-1717185600@www.podistilograto.it
SUMMARY:Stratorbole 2^ Memorial F.lli Toninelli
DESCRIPTION:
URL:https://www.podistilograto.it/event/stratorbole-2-memorial-f-lli-toninelli/
LOCATION:Torbole Casaglia\, Oratorio San Urbano\, Italia
CATEGORIES:Eventi
ATTACH;FMTTYPE=image/jpeg:https://www.podistilograto.it/wp-content/uploads/2024/05/stratorbole24.jpg
END:VEVENT
END:VCALENDAR